BEGIN:VCALENDAR
VERSION:2.0
PRODID:-//CEULogic//EN
BEGIN:VEVENT
UID:ceul-41937-1762473600@stage.ceulogic.com
DTSTAMP:20260419T135313Z
DTSTART:20251107T000000Z
DTEND:20251107T010000Z
SUMMARY:Pain Management Following Joints Replacement\; Hip\, Knee\, And Shoulder
LOCATION:Live Webinar via Zoom
URL:https://stage.ceulogic.com/?p=41937
END:VEVENT
END:VCALENDAR
